BEGIN:VCALENDAR
VERSION:2.0
PRODID:-//Mixer Planet//IT
CALSCALE:GREGORIAN
BEGIN:VEVENT
UID:event-52839@mixerplanet.com
DTSTAMP:20260424T161320
DTSTART:20260425T210000
DTEND:20260426T010000
SUMMARY:Bacaro Tour 2.0\, appuntamento il 25 aprile al Bacaro del Mona a Verona
LOCATION:Verona
DESCRIPTION:C'è una cosa che i bar italiani fanno con difficoltà: raccontarsi. Stare fermi dentro le proprie quattro mura\, aspettare che il cliente arrivi\, sperare che capisca da solo cosa c'è di speciale dietro quel bancone.
END:VEVENT
END:VCALENDAR
