BEGIN:VCALENDAR
VERSION:2.0
PRODID:-//Mixer Planet//IT
CALSCALE:GREGORIAN
BEGIN:VEVENT
UID:event-52838@mixerplanet.com
DTSTAMP:20260424T152308
DTSTART:20260424T210000
DTEND:20260425T010000
SUMMARY:Bacaro Tour 2.0\, la nuova tappa il 24 aprile a Verona
LOCATION:Verona
DESCRIPTION:C'è una cosa che i bar italiani fanno con difficoltà: raccontarsi. Stare fermi dentro le proprie quattro mura\, aspettare che il cliente arrivi\, sperare che capisca da solo cosa c'è di speciale dietro quel bancone
END:VEVENT
END:VCALENDAR
