BEGIN:VCALENDAR
VERSION:2.0
PRODID:-//Mixer Planet//IT
CALSCALE:GREGORIAN
BEGIN:VEVENT
UID:event-52825@mixerplanet.com
DTSTAMP:20260423T145326
DTSTART:20260425T220000
DTEND:20260501T000000
SUMMARY:Udine Cocktail Week\, la mixology di qualità arriva in Friuli dal 25 aprile
LOCATION:Udine
DESCRIPTION:Prende il via sabato 25 aprile la quinta edizione della Udine Cocktail Week\, appuntamento ormai consolidato nel panorama nazionale degli eventi dedicati alla miscelazione di alta qualità. 
END:VEVENT
END:VCALENDAR
