BEGIN:VCALENDAR
VERSION:2.0
PRODID:-//Mixer Planet//IT
CALSCALE:GREGORIAN
BEGIN:VEVENT
UID:event-52824@mixerplanet.com
DTSTAMP:20260423T130254
DTSTART:20260423T210000
DTEND:20260424T010000
SUMMARY:Il Bacaro Tour 2.0\, la seconda tappa ancora a Venezia
LOCATION:Venezia
DESCRIPTION:C'è una cosa che i bar italiani fanno con difficoltà: raccontarsi. Stare fermi dentro le proprie quattro mura\, aspettare che il cliente arrivi\, sperare che capisca da solo cosa c'è di speciale dietro quel bancone
END:VEVENT
END:VCALENDAR
