BEGIN:VCALENDAR
VERSION:2.0
PRODID:-//Mixer Planet//IT
CALSCALE:GREGORIAN
BEGIN:VEVENT
UID:event-52816@mixerplanet.com
DTSTAMP:20260422T013711
DTSTART:20260517T100000
DTEND:20260520T095913
SUMMARY:Alambicco d’Oro ANAG: ultimi giorni per partecipare al 43° concorso dedicato ai distillati italiani\n
LOCATION:Bellaria Igea Marina (Rimini
DESCRIPTION:C’è tempo fino al 5 maggio per partecipare al Concorso nazionale Alambicco d’Oro ANAG\, che ogni anno celebra e premia l’eccellenza della distillazione italiana con le categorie dedicate a Grappa\, Acquavite d’uva\, Brandy italiano e gin in arrivo da tutto il Paese. 
END:VEVENT
END:VCALENDAR
