BEGIN:VCALENDAR
VERSION:2.0
PRODID:-//Mixer Planet//IT
CALSCALE:GREGORIAN
BEGIN:VEVENT
UID:event-52815@mixerplanet.com
DTSTAMP:20260422T013707
DTSTART:20260422T020100
DTEND:20260423T015900
SUMMARY:Il Bacaro Tour 2.0 torna e cresce: Matteo Cassan porta la mixology veneta in dieci province \n
LOCATION:Venezia
DESCRIPTION:C'è una cosa che i bar italiani fanno con difficoltà: raccontarsi. Stare fermi dentro le proprie quattro mura\, aspettare che il cliente arrivi\, sperare che capisca da solo cosa c'è di speciale dietro quel bancone
END:VEVENT
END:VCALENDAR
