BEGIN:VCALENDAR
VERSION:2.0
PRODID:-//Mixer Planet//IT
CALSCALE:GREGORIAN
BEGIN:VEVENT
UID:event-32319@mixerplanet.com
DTSTAMP:20260423T111715
DTSTART:20260414T080000
DTEND:20260414T080000
SUMMARY:World Latte Art Championship 2026: vince il taiwanese Bala\, Stefano Cevenini non entra in finale
LOCATION:Location
DESCRIPTION:E' tutta asiatica la classifica dell'edizione 2026 della World Latte Art Championship\, competizione che ha avuto luogo nel corso del World of Coffee appena conclusosi a San Diego. A salire deul gradin...
END:VEVENT
END:VCALENDAR
